

BEGIN:VCALENDAR
VERSION:2.0
PRODID:-//Census Transportation Planning Products - ECPv5.9.0//NONSGML v1.0//EN
CALSCALE:GREGORIAN
METHOD:PUBLISH
X-WR-CALNAME:Census Transportation Planning Products
X-ORIGINAL-URL:https://ctpp.transportation.org
X-WR-CALDESC:Events for Census Transportation Planning Products
BEGIN:VTIMEZONE
TZID:America/New_York
BEGIN:DAYLIGHT
TZOFFSETFROM:-0500
TZOFFSETTO:-0400
TZNAME:EDT
DTSTART:20190310T070000
END:DAYLIGHT
BEGIN:STANDARD
TZOFFSETFROM:-0400
TZOFFSETTO:-0500
TZNAME:EST
DTSTART:20191103T060000
END:STANDARD
END:VTIMEZONE
BEGIN:VEVENT
DTSTART;TZID=America/New_York:20190712T110000
DTEND;TZID=America/New_York:20190712T120000
DTSTAMP:20210924T041505
CREATED:20190408T183012Z
LAST-MODIFIED:20190408T183012Z
UID:563-1562929200-1562932800@ctpp.transportation.org
SUMMARY:Equity Analysis/Environmental Justice Discussion
DESCRIPTION:The discussion is current focused on adding EA/EJ module in the CTPP E-Learning web application.
URL:https://ctpp.transportation.org/event/equity-analysis-environmental-justice-discussion/2019-07-12/
LOCATION:Phone Call
CATEGORIES:Planning,Research
END:VEVENT
END:VCALENDAR