

BEGIN:VCALENDAR
VERSION:2.0
PRODID:-//Census Transportation Planning Products - ECPv5.9.0//NONSGML v1.0//EN
CALSCALE:GREGORIAN
METHOD:PUBLISH
X-WR-CALNAME:Census Transportation Planning Products
X-ORIGINAL-URL:https://ctpp.transportation.org
X-WR-CALDESC:Events for Census Transportation Planning Products
BEGIN:VTIMEZONE
TZID:America/New_York
BEGIN:DAYLIGHT
TZOFFSETFROM:-0500
TZOFFSETTO:-0400
TZNAME:EDT
DTSTART:20210314T070000
END:DAYLIGHT
BEGIN:STANDARD
TZOFFSETFROM:-0400
TZOFFSETTO:-0500
TZNAME:EST
DTSTART:20211107T060000
END:STANDARD
END:VTIMEZONE
BEGIN:VEVENT
DTSTART;TZID=America/New_York:20210902T130000
DTEND;TZID=America/New_York:20210902T140000
DTSTAMP:20210909T180513
CREATED:20190408T183934Z
LAST-MODIFIED:20190408T183934Z
UID:924-1630587600-1630591200@ctpp.transportation.org
SUMMARY:CTPP TAG Meeting
DESCRIPTION:Hosted by Joseph Hausman from FHWA
URL:https://ctpp.transportation.org/event/ctpp-tag-meeting/2021-09-02/
END:VEVENT
END:VCALENDAR