

BEGIN:VCALENDAR
VERSION:2.0
PRODID:-//Census Transportation Planning Products - ECPv5.9.0//NONSGML v1.0//EN
CALSCALE:GREGORIAN
METHOD:PUBLISH
X-WR-CALNAME:Census Transportation Planning Products
X-ORIGINAL-URL:https://ctpp.transportation.org
X-WR-CALDESC:Events for Census Transportation Planning Products
BEGIN:VTIMEZONE
TZID:UTC
BEGIN:STANDARD
TZOFFSETFROM:+0000
TZOFFSETTO:+0000
TZNAME:UTC
DTSTART:20190101T000000
END:STANDARD
END:VTIMEZONE
BEGIN:VEVENT
DTSTART;TZID=UTC:20190912T080000
DTEND;TZID=UTC:20190913T120000
DTSTAMP:20210924T041432
CREATED:20190731T190939Z
LAST-MODIFIED:20190731T190939Z
UID:809-1568275200-1568376000@ctpp.transportation.org
SUMMARY:CTPP On-Site Training in Altanta\, GA
DESCRIPTION:
URL:https://ctpp.transportation.org/event/ctpp-on-site-training-in-altanta-ga/
LOCATION:Atlanta\, GA
CATEGORIES:On-Site Training,Training
END:VEVENT
END:VCALENDAR